BEGIN:VCALENDAR
VERSION:2.0
PRODID:-//wp-events-plugin.com//7.2.3.1//EN
TZID:Europe/Stockholm
X-WR-TIMEZONE:Europe/Stockholm
BEGIN:VEVENT
UID:1428@ocdstockholm.se
DTSTART;TZID=Europe/Stockholm:20260518T180000
DTEND;TZID=Europe/Stockholm:20260518T193000
DTSTAMP:20260422T120519Z
URL:https://ocdstockholm.se/event/valkomna-pa-traff-om-ocd-och-pans/
SUMMARY:Träff om OCD och PANS
DESCRIPTION:OCD-föreningen Stockholm och förbundet SANE bjuder in till f
 öreläsning och samtal om OCD och PANS för våra medlemmar 18 maj kl 18.
 00-19.30 i vår föreningslokal på Södermannagatan 36. Begränsat med pl
 atser\, så först till kvarn. Anmälan görs senast 11 maj till anna.ham
 berg@forbundetsane.se . Ange ”Träff 18 maj” i rubriken.\n\nEller via 
 anmälningsformuläret nedan.\n\nKlicka in här för inbjudan Inbjudan f
 öreläsning Sane och OCD
CATEGORIES:Anhörig,OCD,PANS/Pandas
LOCATION:Föreningslokalen (nya)\, Södermannagatan 36\, Stockholm\, Stockh
 olms stad\, 116 37\, Sverige
GEO:59.31203102;18.08100699
X-APPLE-STRUCTURED-LOCATION;VALUE=URI;X-ADDRESS=Södermannagatan 36\, Stock
 holm\, Stockholms stad\, 116 37\, Sverige;X-APPLE-RADIUS=100;X-TITLE=Före
 ningslokalen (nya):geo:59.31203102,18.08100699
END:VEVENT
BEGIN:VTIMEZONE
TZID:Europe/Stockholm
X-LIC-LOCATION:Europe/Stockholm
BEGIN:DAYLIGHT
DTSTART:20260329T030000
TZOFFSETFROM:+0100
TZOFFSETTO:+0200
TZNAME:CEST
END:DAYLIGHT
END:VTIMEZONE
END:VCALENDAR