BEGIN:VCALENDAR
VERSION:2.0
PRODID:-//wp-events-plugin.com//7.2.3.1//EN
TZID:Europe/Stockholm
X-WR-TIMEZONE:Europe/Stockholm
BEGIN:VEVENT
UID:1372@ocdstockholm.se
DTSTART;TZID=Europe/Stockholm:20260423T183000
DTEND;TZID=Europe/Stockholm:20260423T200000
DTSTAMP:20260109T154408Z
URL:https://ocdstockholm.se/event/tricho-derma-traff-via-zoom-18/
SUMMARY:Tricho/derma-träff via zoom
DESCRIPTION:Träff för dig som har trichotillomani eller dermatillomani. F
 ungerar som en "självhjälpsgrupp" där vi delar med oss så mycket eller
  så lite som vi känner oss bekväma med. Chans till att möta andra i li
 knande situation. Vi ger tips och råd på olika strategier och motrörels
 er som kan användas om det efterfrågas.\n\nLedare är Johanna Persson so
 m själv har erfarenhet av trichotillomani. För att delta\, anmäl dig ti
 ll info@ocdstockholm.se eller via formuläret nedan senast kl 15 samma dag
 \, så skickar vi zoomlänk.
CATEGORIES:Tricho/Derma
LOCATION:Online\, Online\,  \, Sverige
X-APPLE-STRUCTURED-LOCATION;VALUE=URI;X-ADDRESS=Online\,  \, Sverige;X-APPL
 E-RADIUS=100;X-TITLE=Online:geo:0,0
END:VEVENT
BEGIN:VTIMEZONE
TZID:Europe/Stockholm
X-LIC-LOCATION:Europe/Stockholm
BEGIN:DAYLIGHT
DTSTART:20260329T030000
TZOFFSETFROM:+0100
TZOFFSETTO:+0200
TZNAME:CEST
END:DAYLIGHT
END:VTIMEZONE
END:VCALENDAR