BEGIN:VCALENDAR
VERSION:2.0
PRODID:-//wp-events-plugin.com//7.2.3.1//EN
TZID:Europe/Stockholm
X-WR-TIMEZONE:Europe/Stockholm
BEGIN:VEVENT
UID:1350@ocdstockholm.se
DTSTART;TZID=Europe/Stockholm:20260525T100000
DTEND;TZID=Europe/Stockholm:20260525T120000
DTSTAMP:20260109T144653Z
URL:https://ocdstockholm.se/event/samlartraff-via-zoom-41/
SUMMARY:Samlarträff via zoom
DESCRIPTION:Självhjälpsgrupp via zoom för dig som har samlarsyndrom och 
 vill inspireras till förändring. Tillsammans pratar deltagarna om hur ma
 n kan minska mängden med saker och få bättre ordning i hemmet. Träffen
  är tänkt som ett fritt samtal mellan deltagarna\, det är inte ett för
 edrag eller kurs.\n\nTemat för just denna träff är "Fokus på vad man v
 ill spara eller på vad man vill få bort?". Vill man prata om annat än s
 ådant som är kopplat till dagens tema går det så klart bra!\n\nLedare 
 är Cecilia Meller\, som har stort intresse för rensning och organisering
 . Anmäl dig till info@ocdstockholm.se eller via formuläret nedan senast 
 fredag kl 15 innan träffen så skickar vi zoom-länk.
CATEGORIES:Samlarsyndrom/Hoarding
LOCATION:Online\, Online\,  \, Sverige
X-APPLE-STRUCTURED-LOCATION;VALUE=URI;X-ADDRESS=Online\,  \, Sverige;X-APPL
 E-RADIUS=100;X-TITLE=Online:geo:0,0
END:VEVENT
BEGIN:VTIMEZONE
TZID:Europe/Stockholm
X-LIC-LOCATION:Europe/Stockholm
BEGIN:DAYLIGHT
DTSTART:20260329T030000
TZOFFSETFROM:+0100
TZOFFSETTO:+0200
TZNAME:CEST
END:DAYLIGHT
END:VTIMEZONE
END:VCALENDAR