BEGIN:VCALENDAR
VERSION:2.0
PRODID:-//wp-events-plugin.com//7.2.3.1//EN
TZID:Europe/Stockholm
X-WR-TIMEZONE:Europe/Stockholm
BEGIN:VEVENT
UID:1160@ocdstockholm.se
DTSTART;TZID=Europe/Stockholm:20240930T153000
DTEND;TZID=Europe/Stockholm:20240930T170000
DTSTAMP:20240825T200959Z
URL:https://ocdstockholm.se/event/kurstraff-sjalvmedkansla-2024-09-30/
SUMMARY:Kursträff självmedkänsla
DESCRIPTION:Träff i kursen om självmedkänsla.  Sista dag för anmälan 
 16 september.
LOCATION:Föreningslokalen\, Erstagatan 1C\, Stockholm\, Sverige
GEO:59.3120393;18.0810169
X-APPLE-STRUCTURED-LOCATION;VALUE=URI;X-ADDRESS=Erstagatan 1C\, Stockholm\,
  Sverige;X-APPLE-RADIUS=100;X-TITLE=Föreningslokalen:geo:59.3120393,18.08
 10169
END:VEVENT
BEGIN:VTIMEZONE
TZID:Europe/Stockholm
X-LIC-LOCATION:Europe/Stockholm
BEGIN:DAYLIGHT
DTSTART:20240331T030000
TZOFFSETFROM:+0100
TZOFFSETTO:+0200
TZNAME:CEST
END:DAYLIGHT
END:VTIMEZONE
END:VCALENDAR