BEGIN:VCALENDAR
VERSION:2.0
PRODID:-//wp-events-plugin.com//7.2.3.1//EN
TZID:Europe/Stockholm
X-WR-TIMEZONE:Europe/Stockholm
BEGIN:VEVENT
UID:924@ocdstockholm.se
DTSTART;TZID=Europe/Stockholm:20220512T200000
DTEND;TZID=Europe/Stockholm:20220512T213000
DTSTAMP:20240424T062813Z
URL:https://ocdstockholm.se/event/forelasning-vad-foreningarna-kan-erbjuda
 /
SUMMARY:Föreläsning: vad föreningarna kan erbjuda
DESCRIPTION:Genom en förening kan du få hjälp och stöd och du hittar ä
 ven andra som befinner sig i en liknande situation. I den här föreläsni
 ngen får du bättre koll på vad föreningarna inom Nationell Samling fö
 r Psykisk Hälsa i Stockholms län kan erbjuda.\n \n\n Under föreläsning
 en kommer bland annat Kela Dahlén och Elin Olaisson berätta om OCD-före
 ningen Stockholms verksamhet. Föreläsningen ges via zoom i samarbete med
  Stockholms nätverk aktion psykisk hälsa (SNAPH) och studieförbundet Se
 nsus. Anmälan görs via Sensus hemsida.
LOCATION:Online\, Online\,  \, Sverige
X-APPLE-STRUCTURED-LOCATION;VALUE=URI;X-ADDRESS=Online\,  \, Sverige;X-APPL
 E-RADIUS=100;X-TITLE=Online:geo:0,0
END:VEVENT
BEGIN:VTIMEZONE
TZID:Europe/Stockholm
X-LIC-LOCATION:Europe/Stockholm
BEGIN:DAYLIGHT
DTSTART:20220327T030000
TZOFFSETFROM:+0100
TZOFFSETTO:+0200
TZNAME:CEST
END:DAYLIGHT
END:VTIMEZONE
END:VCALENDAR