BEGIN:VCALENDAR
VERSION:2.0
PRODID:-//wp-events-plugin.com//7.2.3.1//EN
TZID:Europe/Stockholm
X-WR-TIMEZONE:Europe/Stockholm
BEGIN:VEVENT
UID:940@ocdstockholm.se
DTSTART;TZID=Europe/Stockholm:20221121T100000
DTEND;TZID=Europe/Stockholm:20221121T123000
DTSTAMP:20240424T062813Z
URL:https://ocdstockholm.se/event/dysmorfofobi-kunskap-och-bemotande-i-sko
 lan/
SUMMARY:Dysmorfofobi – kunskap och bemötande i skolan
DESCRIPTION:Digital föreläsning om dysmorfofobi främst riktad till dig s
 om arbetar i skolan. Hur yttrar sig diagnosen och vad kan skolan göra fö
 r att stötta den som drabbas? Medverkande:\n \n   Daniel Rautio\, forskar
 e\, leg. psykolog och psykoterapeut\n   Jasmine Öhlin\, studerande med eg
 en erfarenhet av dysmorfofobi\n   Therese Netzell\, kursledare för "Se oc
 d i skolan"\n \n Anmälan görs senast 18 november via denna länk: http:/
 /simplesignup.se/event/198106-foerelaesning-dysmorfofobi
END:VEVENT
BEGIN:VTIMEZONE
TZID:Europe/Stockholm
X-LIC-LOCATION:Europe/Stockholm
BEGIN:STANDARD
DTSTART:20221030T020000
TZOFFSETFROM:+0200
TZOFFSETTO:+0100
TZNAME:CET
END:STANDARD
END:VTIMEZONE
END:VCALENDAR