BEGIN:VCALENDAR
VERSION:2.0
PRODID:-//wp-events-plugin.com//7.2.3.1//EN
TZID:Europe/Stockholm
X-WR-TIMEZONE:Europe/Stockholm
BEGIN:VEVENT
UID:1418@ocdstockholm.se
DTSTART;TZID=Europe/Stockholm:20260819T180000
DTEND;TZID=Europe/Stockholm:20260819T200000
DTSTAMP:20260409T141657Z
URL:https://ocdstockholm.se/event/cafe-och-samtalskvall-pa-sodermannagatan
 -36-11/
SUMMARY:Café- och samtalskväll på Södermannagatan 36
DESCRIPTION:Välkommen till öppen cafékväll för personer med egen diagn
 os inom OCD- spektrumet och anhöriga. Vi fikar samtidigt som vi pratar om
  livet med OCD eller andra relaterade diagnoser och delger varandra strate
 gier för ett sundare förhållningssätt till OCD när det efterfrågas.\
 n\nLedare från OCD-föreningen finns på plats på Södermannagatan 36. I
 ngen anmälan behövs!
CATEGORIES:Anhörig,BDD,OCD,Samlarsyndrom/Hoarding,Tricho/Derma
LOCATION:Föreningslokalen (nya)\, Södermannagatan 36\, Stockholm\, Stockh
 olms stad\, 116 37\, Sverige
GEO:59.31203102;18.08100699
X-APPLE-STRUCTURED-LOCATION;VALUE=URI;X-ADDRESS=Södermannagatan 36\, Stock
 holm\, Stockholms stad\, 116 37\, Sverige;X-APPLE-RADIUS=100;X-TITLE=Före
 ningslokalen (nya):geo:59.31203102,18.08100699
END:VEVENT
BEGIN:VTIMEZONE
TZID:Europe/Stockholm
X-LIC-LOCATION:Europe/Stockholm
BEGIN:DAYLIGHT
DTSTART:20260329T030000
TZOFFSETFROM:+0100
TZOFFSETTO:+0200
TZNAME:CEST
END:DAYLIGHT
END:VTIMEZONE
END:VCALENDAR