BEGIN:VCALENDAR
VERSION:2.0
PRODID:-//wp-events-plugin.com//7.2.3.1//EN
TZID:Europe/Stockholm
X-WR-TIMEZONE:Europe/Stockholm
BEGIN:VEVENT
UID:1420@ocdstockholm.se
DTSTART;TZID=Europe/Stockholm:20260616T180000
DTEND;TZID=Europe/Stockholm:20260616T200000
DTSTAMP:20260409T142115Z
URL:https://ocdstockholm.se/event/bdd-traff-pa-sodermannagatan-36-4/
SUMMARY:BDD-träff på Södermannagatan 36
DESCRIPTION:Träff för dig med dysmorfofobi/body dysmorphic disorder (BDD)
 . Deltagarna delar med sig av sin egen situation och hur man själv gör f
 ör att må bra.\n\nVill du ha en anhörig med som stöd går det bra\, me
 n samtalet sker främst mellan er med diagnos. Ledare är Rickard\, som sj
 älv har erfarenhet av BDD. Föreningen bjuder på fika. Anmäl dig senast
  kl 13 samma dag till info@ocdstockholm.se eller via formuläret nedan.\n\
 n&nbsp\;
CATEGORIES:BDD
LOCATION:Föreningslokalen (nya)\, Södermannagatan 36\, Stockholm\, Stockh
 olms stad\, 116 37\, Sverige
GEO:59.31203102;18.08100699
X-APPLE-STRUCTURED-LOCATION;VALUE=URI;X-ADDRESS=Södermannagatan 36\, Stock
 holm\, Stockholms stad\, 116 37\, Sverige;X-APPLE-RADIUS=100;X-TITLE=Före
 ningslokalen (nya):geo:59.31203102,18.08100699
END:VEVENT
BEGIN:VTIMEZONE
TZID:Europe/Stockholm
X-LIC-LOCATION:Europe/Stockholm
BEGIN:DAYLIGHT
DTSTART:20260329T030000
TZOFFSETFROM:+0100
TZOFFSETTO:+0200
TZNAME:CEST
END:DAYLIGHT
END:VTIMEZONE
END:VCALENDAR