BEGIN:VCALENDAR
VERSION:2.0
PRODID:-//wp-events-plugin.com//7.2.3.1//EN
TZID:Europe/Stockholm
X-WR-TIMEZONE:Europe/Stockholm
BEGIN:VEVENT
UID:1146@ocdstockholm.se
DTSTART;TZID=Europe/Stockholm:20241116T140000
DTEND;TZID=Europe/Stockholm:20241116T160000
DTSTAMP:20240917T045448Z
URL:https://ocdstockholm.se/event/anhorigtraff-via-zoom-2/
SUMMARY:Anhörigträff via zoom
DESCRIPTION:En träff via zoom för dig som har en anhörig eller nära vä
 n med tvångssyndrom eller någon annan diagnos inom OCD-spektrumet\, t.ex
 . samlarsyndrom eller BDD. Chans till erfarenhetsutbyte och att möta andr
 a i samma situation.\n\nLedare för träffen är Johanna Persson\, själv 
 anhörig. Maila info@ocdstockholm.se eller anmäl dig i formuläret nedan 
 senast dagen innan träffen\, så skickar vi länk.\n\n&nbsp\;
CATEGORIES:Anhörig
LOCATION:Online\, Online\,  \, Sverige
X-APPLE-STRUCTURED-LOCATION;VALUE=URI;X-ADDRESS=Online\,  \, Sverige;X-APPL
 E-RADIUS=100;X-TITLE=Online:geo:0,0
END:VEVENT
BEGIN:VTIMEZONE
TZID:Europe/Stockholm
X-LIC-LOCATION:Europe/Stockholm
BEGIN:STANDARD
DTSTART:20241027T020000
TZOFFSETFROM:+0200
TZOFFSETTO:+0100
TZNAME:CET
END:STANDARD
END:VTIMEZONE
END:VCALENDAR