BEGIN:VCALENDAR
VERSION:2.0
PRODID:-//wp-events-plugin.com//7.2.3.1//EN
TZID:Europe/Stockholm
X-WR-TIMEZONE:Europe/Stockholm
BEGIN:VEVENT
UID:1359@ocdstockholm.se
DTSTART;TZID=Europe/Stockholm:20260608T183000
DTEND;TZID=Europe/Stockholm:20260608T200000
DTSTAMP:20260109T150557Z
URL:https://ocdstockholm.se/event/anhorigtraff-samlarsyndrom-21/
SUMMARY:Anhörigträff - samlarsyndrom
DESCRIPTION:Ett tillfälle för dig som är anhörig eller nära vän till 
 någon som har samlarproblematik. Här kan du samtala om hur det kan vara 
 att stå bredvid någon som behöver hjälp\, men utan att veta hur man b
 äst når fram. Kanske kan du inspireras till nya steg för att tillsamman
 s med din närstående skapa en bättre situation. Dagens tema: " Glöm in
 te bort dig själv i anhörigskapet". Motivationsarbete för en själv och
  sin närstående. Detta är ingen föreläsning utan ett samtal mellan de
 ltagarna.\n\nLedare är Cecilia Meller\, som har stort intresse för rensn
 ing och organisering. Anmäl dig till info@ocdstockholm.se eller via formu
 läret nedan senast kl 14.00 samma dag\,  så skickar vi zoom-länk.
CATEGORIES:Anhörig,Samlarsyndrom/Hoarding
LOCATION:Online\, Online\,  \, Sverige
X-APPLE-STRUCTURED-LOCATION;VALUE=URI;X-ADDRESS=Online\,  \, Sverige;X-APPL
 E-RADIUS=100;X-TITLE=Online:geo:0,0
END:VEVENT
BEGIN:VTIMEZONE
TZID:Europe/Stockholm
X-LIC-LOCATION:Europe/Stockholm
BEGIN:DAYLIGHT
DTSTART:20260329T030000
TZOFFSETFROM:+0100
TZOFFSETTO:+0200
TZNAME:CEST
END:DAYLIGHT
END:VTIMEZONE
END:VCALENDAR