BEGIN:VCALENDAR
VERSION:2.0
PRODID:-//wp-events-plugin.com//7.2.3.1//EN
TZID:Europe/Stockholm
X-WR-TIMEZONE:Europe/Stockholm
BEGIN:VEVENT
UID:1358@ocdstockholm.se
DTSTART;TZID=Europe/Stockholm:20260511T183000
DTEND;TZID=Europe/Stockholm:20260511T200000
DTSTAMP:20260109T150129Z
URL:https://ocdstockholm.se/event/anhorigtraff-samlarsyndrom-20/
SUMMARY:Anhörigträff - samlarsyndrom
DESCRIPTION:Ett tillfälle för dig som är anhörig eller nära vän till 
 någon som har samlarproblematik. Här kan du samtala om hur det kan vara 
 att stå bredvid någon som behöver hjälp\, men utan att veta hur man b
 äst når fram. Kanske kan du inspireras till nya steg för att tillsamman
 s med din närstående skapa en bättre situation. Dagens tema: " Förvän
 tningar och förtroende". Motivationsarbete för en själv och sin närst
 ående. Detta är ingen föreläsning utan ett samtal mellan deltagarna.\n
 \nLedare är Cecilia Meller\, som har stort intresse för rensning och org
 anisering. Anmäl dig till info@ocdstockholm.se eller via formuläret neda
 n senast kl 14.00 samma dag\,  så skickar vi zoom-länk.
CATEGORIES:Anhörig,Samlarsyndrom/Hoarding
LOCATION:Online\, Online\,  \, Sverige
X-APPLE-STRUCTURED-LOCATION;VALUE=URI;X-ADDRESS=Online\,  \, Sverige;X-APPL
 E-RADIUS=100;X-TITLE=Online:geo:0,0
END:VEVENT
BEGIN:VTIMEZONE
TZID:Europe/Stockholm
X-LIC-LOCATION:Europe/Stockholm
BEGIN:DAYLIGHT
DTSTART:20260329T030000
TZOFFSETFROM:+0100
TZOFFSETTO:+0200
TZNAME:CEST
END:DAYLIGHT
END:VTIMEZONE
END:VCALENDAR